BEGIN:VCALENDAR
VERSION:2.0
PRODID:-//Tukios.com/
BEGIN:VEVENT
UID:b2cefaca-988b-4f0d-9815-606a021af552@www.c-cfuneralhome.com
DTSTAMP:20260425T013853Z
DTSTART:20260501T140000Z
DTEND:20260501T150000Z
SUMMARY:Visitation
DESCRIPTION:
URL:https://www.c-cfuneralhome.com/obituaries/catherine-pickens-nee-lynott
LOCATION: 1212 Bunts Road  Lakewood OH 44107
GEO:41.4908647;-81.7901264
END:VEVENT
END:VCALENDAR