BEGIN:VCALENDAR
VERSION:2.0
PRODID:-//Tukios.com/
BEGIN:VEVENT
UID:90ae830c-396f-417f-9dea-6c4caf811d40@www.c-cfuneralhome.com
DTSTAMP:20260425T014416Z
DTSTART:20260501T150000Z
DTEND:20260501T160000Z
SUMMARY:Memorial Service
DESCRIPTION:
URL:https://www.c-cfuneralhome.com/obituaries/catherine-pickens-nee-lynott
LOCATION: 1212 Bunts Road  Lakewood OH 44107
GEO:41.4908647;-81.7901264
END:VEVENT
END:VCALENDAR