BEGIN:VCALENDAR
VERSION:2.0
PRODID:-//Tukios.com/
BEGIN:VEVENT
UID:98a6609d-474f-48e0-922f-303c0819db91@www.c-cfuneralhome.com
DTSTAMP:20260421T015102Z
DTSTART:20260424T200000Z
DTEND:20260424T220000Z
SUMMARY:Visitation
DESCRIPTION:
URL:https://www.c-cfuneralhome.com/obituaries/georgia-papadopoulos-nee-lazariotis
LOCATION: 6953 W 130th St  Parma Heights OH 44130
GEO:41.376186;-81.7844033
END:VEVENT
END:VCALENDAR