BEGIN:VCALENDAR
VERSION:2.0
PRODID:-//Tukios.com/
BEGIN:VEVENT
UID:9a0b36c6-ab50-462e-8e01-766e9bff53eb@www.c-cfuneralhome.com
DTSTAMP:20260421T014940Z
DTSTART:20260424T220000Z
DTEND:20260424T230000Z
SUMMARY:Funeral Service
DESCRIPTION:
URL:https://www.c-cfuneralhome.com/obituaries/georgia-papadopoulos-nee-lazariotis
LOCATION: 6953 W 130th St  Parma Heights OH 44130
GEO:41.376186;-81.7844033
END:VEVENT
END:VCALENDAR