BEGIN:VCALENDAR
VERSION:2.0
PRODID:-//Tukios.com/
BEGIN:VEVENT
UID:f1c514e0-8923-4c97-81eb-b85dab8d1b62@www.c-cfuneralhome.com
DTSTAMP:20260421T014634Z
DTSTART:20260424T140000Z
DTEND:20260424T150000Z
SUMMARY:Visitation
DESCRIPTION:
URL:https://www.c-cfuneralhome.com/obituaries/helen-karakostas-nee-tsirambidis
LOCATION:Annunciation Greek Orthodox Church 2187 West 14th Street  
	Cleveland OH 44113
GEO:41.4825461;-81.6908874
END:VEVENT
END:VCALENDAR