BEGIN:VCALENDAR
VERSION:2.0
PRODID:-//Tukios.com/
BEGIN:VEVENT
UID:cbfe1cc2-29ae-446b-b5fb-ed0291c978ea@www.c-cfuneralhome.com
DTSTAMP:20260421T014556Z
DTSTART:20260424T150000Z
DTEND:20260424T160000Z
SUMMARY:Funeral Service
DESCRIPTION:
URL:https://www.c-cfuneralhome.com/obituaries/helen-karakostas-nee-tsirambidis
LOCATION: 2187 West 14th Street  Cleveland OH 44113
GEO:41.4825461;-81.6908874
END:VEVENT
END:VCALENDAR